BEGIN:VCALENDAR
VERSION:2.0
PRODID:-//wp-events-plugin.com//7.2.3.1//EN
TZID:Asia/Dili
X-WR-TIMEZONE:Asia/Dili
BEGIN:VEVENT
UID:1@infiniflyaviation.com
DTSTART;TZID=Asia/Kolkata:20250105T170000
DTEND;TZID=Asia/Kolkata:20250105T200000
DTSTAMP:20251118T083519Z
URL:https://infiniflyaviation.com/events/propel-the-journey-skyward/
SUMMARY:PROPEL: THE JOURNEY SKYWARD
DESCRIPTION:Welcome to PROPEL\, the annual flagship event of INFINIFLY AVIA
 TION that celebrates the passion\, dedication and achievements of aspiring
  aviators. Launched in 2025\, PROPEL is a yearly tradition where we bring 
 together students\, aviation experts and industry leaders to inspire and e
 mpower the next generation of pilots.\nA Celebration of Excellence and Amb
 ition\nPROPEL is not merely an event – it is a platform that ignites dre
 ams\, encourages learning and rewards excellence in aviation training. Eve
 ry year\, we aim to create an aura of camaraderie\, inspiration and celebr
 ation\, reaffirming our dedication to preparing our students for their avi
 ation careers.\nThe Highlights of PROPEL 2025\nOur inaugural edition of PR
 OPEL 2025 set the stage for an unforgettable experience. The event feature
 d:\nGuest of Honour: Group Captain C.J. Weir (Retd.)\nWe had the privilege
  of hosting Group Captain C.J. Weir (Retd.)\, an aviation legend with over
  31 years in the Indian Air Force as a Fighter Pilot\, Air Combat Instruct
 or and an esteemed leader in flight training operations. With 7\,000+ flyi
 ng hours across various aircraft types\, his journey is a testament to dis
 cipline\, dedication and the relentless pursuit of excellence. His core va
 lues – Honesty &amp\; Hard Work – serve as guiding principles for ever
 y aspiring aviator.\nMotivational Speech &amp\; Interactive Q&amp\;A\nOur 
 students were encouraged by the Chief Guest’s inspirational speech\, in 
 which he presented insights from his long and distinguished career and val
 uable lessons in determination and resilience. The Q&amp\;A opportunity al
 lowed future pilots to interact face-to-face with a professional in the in
 dustry and learn firsthand about the trials and benefits of flying.\nRecog
 nising Achievements &amp\; Milestones\nAt INFINIFLY AVIATION\, we believe 
 in celebrating every milestone. During the event\, students were recognise
 d and awarded for their outstanding accomplishments in categories such as:
 \n\n 	Placement in Airlines\n 	Completion of CPL Training &amp\; Licensing
 \n 	Excellence in DGCA Examinations\n\nFun\, Music &amp\; Camaraderie\nBey
 ond the learning and recognition\, PROPEL was also about team spirit and e
 njoyment. Students and faculty engaged in team games\, fun challenges\, mu
 sic\, dance and a gala dinner\, making it an event to remember.\nLooking A
 head: PROPEL 2026 &amp\; Beyond\nPROPEL is now an annual tradition at INFI
 NIFLY AVIATION. Each year\, we will continue to bring together aviation ex
 perts\, industry leaders and our talented students to celebrate success\, 
 share knowledge and inspire future aviators. The journey skyward has just 
 begun!\n\nStay tuned for updates on PROPEL 2026. Until then\, keep flying 
 high and chasing your dreams!
ATTACH;FMTTYPE=image/jpeg:https://infiniflyaviation.com/wp-content/uploads
 /2025/02/Propel-The-Journey-Skyward.jpeg
END:VEVENT
BEGIN:VTIMEZONE
TZID:Asia/Kolkata
X-LIC-LOCATION:Asia/Kolkata
BEGIN:STANDARD
DTSTART:20240106T170000
TZOFFSETFROM:+0530
TZOFFSETTO:+0530
TZNAME:IST
END:STANDARD
END:VTIMEZONE
END:VCALENDAR